BEGIN:VCALENDAR
VERSION:2.0
PRODID:-//Georgetown SC - ECPv6.15.20//NONSGML v1.0//EN
CALSCALE:GREGORIAN
METHOD:PUBLISH
X-ORIGINAL-URL:https://discovergeorgetownsc.com
X-WR-CALDESC:Events for Georgetown SC
REFRESH-INTERVAL;VALUE=DURATION:PT1H
X-Robots-Tag:noindex
X-PUBLISHED-TTL:PT1H
BEGIN:VTIMEZONE
TZID:America/New_York
BEGIN:DAYLIGHT
TZOFFSETFROM:-0500
TZOFFSETTO:-0400
TZNAME:EDT
DTSTART:20230312T070000
END:DAYLIGHT
BEGIN:STANDARD
TZOFFSETFROM:-0400
TZOFFSETTO:-0500
TZNAME:EST
DTSTART:20231105T060000
END:STANDARD
BEGIN:DAYLIGHT
TZOFFSETFROM:-0500
TZOFFSETTO:-0400
TZNAME:EDT
DTSTART:20240310T070000
END:DAYLIGHT
BEGIN:STANDARD
TZOFFSETFROM:-0400
TZOFFSETTO:-0500
TZNAME:EST
DTSTART:20241103T060000
END:STANDARD
BEGIN:DAYLIGHT
TZOFFSETFROM:-0500
TZOFFSETTO:-0400
TZNAME:EDT
DTSTART:20250309T070000
END:DAYLIGHT
BEGIN:STANDARD
TZOFFSETFROM:-0400
TZOFFSETTO:-0500
TZNAME:EST
DTSTART:20251102T060000
END:STANDARD
END:VTIMEZONE
BEGIN:VEVENT
DTSTART;TZID=America/New_York:20241012T070000
DTEND;TZID=America/New_York:20241012T170000
DTSTAMP:20260422T154234
CREATED:20240909T170442Z
LAST-MODIFIED:20240909T170442Z
UID:10001437-1728716400-1728752400@discovergeorgetownsc.com
SUMMARY:Prancers Against Breast Cancer Community Walk
DESCRIPTION:
URL:https://discovergeorgetownsc.com/event/prancers-against-breast-cancer-community-walk/
LOCATION:Beck Recreation Center\, 2030 W Church St.\, Georgetown\, SC\, 29449\, United States
CATEGORIES:Event
END:VEVENT
BEGIN:VEVENT
DTSTART;TZID=America/New_York:20241012T080000
DTEND;TZID=America/New_York:20241012T120000
DTSTAMP:20260422T154234
CREATED:20240729T192204Z
LAST-MODIFIED:20240729T192204Z
UID:10001434-1728720000-1728734400@discovergeorgetownsc.com
SUMMARY:Georgetown Fall Community Yard Sale
DESCRIPTION:Want to hold a yard sale without all the hassle\, signs\, and crowds on your lawn? The Georgetown Library has the perfect solution!\nThe Friends of the Georgetown Library is sponsoring a Community Yard Sale on Saturday\, October 12th\, from 8:00 am until noon\, in the Judicial Center parking lot on the corner of Dozier Street and Highway 17 just behind the Georgetown Library. The rain date is October 26th. Set-up for the sale will be at 6:30 am\, and multiple selling spaces may be purchased. \nTo purchase selling space\, register online at myfogl.org/projects or visit the Georgetown Library at 405 Cleland Street. Spaces are available at $15 for a single space\, or $20 for a double space. Proceeds from the purchase of selling spaces will go toward Library programming. There will be no admission charge for buyers\, and everyone is invited to browse and shop! \nLooking for antiques\, clothes\, tools\, kids’ toys\, jewelry\, baked goods\, etc.\, etc.\, etc.\, at the ultimate discount? For those of you looking to shop\, treasures and treats are always on hand at the sale\, so please mark October 12th on your calendar\, and spend a sunny\, savings-savvy morning with the Friends of the Georgetown Library. For more information\, please contact Bob Willey at rwilley1019@gmail.com
URL:https://discovergeorgetownsc.com/event/georgetown-fall-community-yard-sale/
LOCATION:Georgetown County Public Library\, 405 Cleland Street\, Georgetown\, SC\, 29440\, United States
CATEGORIES:Event
ATTACH;FMTTYPE=image/jpeg:https://discovergeorgetownsc.com/wp-content/uploads/2023/03/yardsale.jpg
END:VEVENT
END:VCALENDAR