BEGIN:VCALENDAR
VERSION:2.0
PRODID:-//Georgetown SC - ECPv6.15.20//NONSGML v1.0//EN
CALSCALE:GREGORIAN
METHOD:PUBLISH
X-ORIGINAL-URL:https://discovergeorgetownsc.com
X-WR-CALDESC:Events for Georgetown SC
REFRESH-INTERVAL;VALUE=DURATION:PT1H
X-Robots-Tag:noindex
X-PUBLISHED-TTL:PT1H
BEGIN:VTIMEZONE
TZID:America/New_York
BEGIN:DAYLIGHT
TZOFFSETFROM:-0500
TZOFFSETTO:-0400
TZNAME:EDT
DTSTART:20230312T070000
END:DAYLIGHT
BEGIN:STANDARD
TZOFFSETFROM:-0400
TZOFFSETTO:-0500
TZNAME:EST
DTSTART:20231105T060000
END:STANDARD
BEGIN:DAYLIGHT
TZOFFSETFROM:-0500
TZOFFSETTO:-0400
TZNAME:EDT
DTSTART:20240310T070000
END:DAYLIGHT
BEGIN:STANDARD
TZOFFSETFROM:-0400
TZOFFSETTO:-0500
TZNAME:EST
DTSTART:20241103T060000
END:STANDARD
BEGIN:DAYLIGHT
TZOFFSETFROM:-0500
TZOFFSETTO:-0400
TZNAME:EDT
DTSTART:20250309T070000
END:DAYLIGHT
BEGIN:STANDARD
TZOFFSETFROM:-0400
TZOFFSETTO:-0500
TZNAME:EST
DTSTART:20251102T060000
END:STANDARD
END:VTIMEZONE
BEGIN:VEVENT
DTSTART;TZID=America/New_York:20241026T050000
DTEND;TZID=America/New_York:20241026T170000
DTSTAMP:20260422T154234
CREATED:20240325T170148Z
LAST-MODIFIED:20240325T170148Z
UID:10001004-1729918800-1729962000@discovergeorgetownsc.com
SUMMARY:Southern Redfish Cup Tournament
DESCRIPTION:
URL:https://discovergeorgetownsc.com/event/southern-redfish-cup-tournament/
LOCATION:Carroll Ashmore Campbell Marine Complex\, 101 River Walk Drive\, Georgetown\, SC\, 29440\, United States
CATEGORIES:Event
ATTACH;FMTTYPE=image/jpeg:https://discovergeorgetownsc.com/wp-content/uploads/2023/02/fishing.jpg
END:VEVENT
BEGIN:VEVENT
DTSTART;TZID=America/New_York:20241026T130000
DTEND;TZID=America/New_York:20241026T160000
DTSTAMP:20260422T154234
CREATED:20241001T121340Z
LAST-MODIFIED:20241001T121340Z
UID:10001443-1729947600-1729958400@discovergeorgetownsc.com
SUMMARY:Art Exhibition Sherry Strickland Martin
DESCRIPTION:
URL:https://discovergeorgetownsc.com/event/art-exhibition-sherry-strickland-martin/
LOCATION:Art Harbor Gallery\, 914 Front Street\, Georgetown\, SC\, 29440\, United States
CATEGORIES:Event
ATTACH;FMTTYPE=image/jpeg:https://discovergeorgetownsc.com/wp-content/uploads/2023/08/art.jpg
END:VEVENT
BEGIN:VEVENT
DTSTART;TZID=America/New_York:20241026T130000
DTEND;TZID=America/New_York:20241026T160000
DTSTAMP:20260422T154234
CREATED:20241014T155710Z
LAST-MODIFIED:20241014T155710Z
UID:10001445-1729947600-1729958400@discovergeorgetownsc.com
SUMMARY:Family Fun & Reading Day
DESCRIPTION:
URL:https://discovergeorgetownsc.com/event/family-fun-reading-day/
LOCATION:Kaminski House Museum\, 1003 Front Street\, Georgetown\, SC\, 29440\, United States
CATEGORIES:Event
ATTACH;FMTTYPE=image/jpeg:https://discovergeorgetownsc.com/wp-content/uploads/2024/10/fam.jpg
END:VEVENT
END:VCALENDAR