BEGIN:VCALENDAR
VERSION:2.0
PRODID:-//Georgetown SC - ECPv6.15.20//NONSGML v1.0//EN
CALSCALE:GREGORIAN
METHOD:PUBLISH
X-ORIGINAL-URL:https://discovergeorgetownsc.com
X-WR-CALDESC:Events for Georgetown SC
REFRESH-INTERVAL;VALUE=DURATION:PT1H
X-Robots-Tag:noindex
X-PUBLISHED-TTL:PT1H
BEGIN:VTIMEZONE
TZID:America/New_York
BEGIN:DAYLIGHT
TZOFFSETFROM:-0500
TZOFFSETTO:-0400
TZNAME:EDT
DTSTART:20220313T070000
END:DAYLIGHT
BEGIN:STANDARD
TZOFFSETFROM:-0400
TZOFFSETTO:-0500
TZNAME:EST
DTSTART:20221106T060000
END:STANDARD
BEGIN:DAYLIGHT
TZOFFSETFROM:-0500
TZOFFSETTO:-0400
TZNAME:EDT
DTSTART:20230312T070000
END:DAYLIGHT
BEGIN:STANDARD
TZOFFSETFROM:-0400
TZOFFSETTO:-0500
TZNAME:EST
DTSTART:20231105T060000
END:STANDARD
BEGIN:DAYLIGHT
TZOFFSETFROM:-0500
TZOFFSETTO:-0400
TZNAME:EDT
DTSTART:20240310T070000
END:DAYLIGHT
BEGIN:STANDARD
TZOFFSETFROM:-0400
TZOFFSETTO:-0500
TZNAME:EST
DTSTART:20241103T060000
END:STANDARD
END:VTIMEZONE
BEGIN:VEVENT
DTSTART;TZID=America/New_York:20231216T110000
DTEND;TZID=America/New_York:20231216T140000
DTSTAMP:20260424T215628
CREATED:20230913T133154Z
LAST-MODIFIED:20231130T204014Z
UID:10000085-1702724400-1702735200@discovergeorgetownsc.com
SUMMARY:Christmas Parade
DESCRIPTION:
URL:https://discovergeorgetownsc.com/event/christmas-parade/
LOCATION:Front Street\, 633 Front St.\, Georgetown\, SC\, 29440\, United States
CATEGORIES:Christmas,Event
ATTACH;FMTTYPE=image/jpeg:https://discovergeorgetownsc.com/wp-content/uploads/2023/09/christmasparade.jpg
END:VEVENT
BEGIN:VEVENT
DTSTART;TZID=America/New_York:20231216T110000
DTEND;TZID=America/New_York:20231216T170000
DTSTAMP:20260424T215628
CREATED:20231031T114146Z
LAST-MODIFIED:20240108T132747Z
UID:10000151-1702724400-1702746000@discovergeorgetownsc.com
SUMMARY:Holiday Designers’ Showcase at the Kaminski House Museum
DESCRIPTION:The Holiday Designers’ Showcase at the Kaminski House Museum will open on Monday\, November 6th and run through Saturday\, December 30th. Come see the rooms of the Kaminski House decked out in all the sparkle and glitz of the holidays. The guided tours are offered at 11 am\, 1 and 3 pm. Tickets are $15 for Adults; $10 Seniors over 65; and children 6 – 17\, $10. Children under 5 are admitted free of charge. Contact the Museum at 843-546-7706 or visit KaminskiMuseum.org for more details.
URL:https://discovergeorgetownsc.com/event/holiday-designers-showcase-at-the-kaminski-house-museum/2023-12-16/
LOCATION:Kaminski House Museum\, 1003 Front Street\, Georgetown\, SC\, 29440\, United States
CATEGORIES:Christmas,Event
ATTACH;FMTTYPE=image/jpeg:https://discovergeorgetownsc.com/wp-content/uploads/2023/10/kaminskihouse.jpg
END:VEVENT
BEGIN:VEVENT
DTSTART;TZID=America/New_York:20231216T160000
DTEND;TZID=America/New_York:20231216T180000
DTSTAMP:20260424T215628
CREATED:20231031T114516Z
LAST-MODIFIED:20231031T114516Z
UID:10000534-1702742400-1702749600@discovergeorgetownsc.com
SUMMARY:All Aboard the Holiday Trolley for Family Night
DESCRIPTION:Take a ride on the Holiday Trolley on Saturday\, December 16th from 4 – 6 pm. Bring out the kiddos for hot cocoa and holiday cookies. A Scavenger Hint and tour of the Kaminski House will also be included. Tickets for Adults (non-members) are $15 and Adults (members) are $10. Adults with children are $10 and children under 12 are admitted free of charge.
URL:https://discovergeorgetownsc.com/event/all-aboard-the-holiday-trolley-for-family-night/
LOCATION:Kaminski House Museum\, 1003 Front Street\, Georgetown\, SC\, 29440\, United States
CATEGORIES:Christmas,Event
ATTACH;FMTTYPE=image/jpeg:https://discovergeorgetownsc.com/wp-content/uploads/2023/10/trolley.jpg
END:VEVENT
END:VCALENDAR