BEGIN:VCALENDAR
VERSION:2.0
PRODID:-//Georgetown SC - ECPv6.15.20//NONSGML v1.0//EN
CALSCALE:GREGORIAN
METHOD:PUBLISH
X-ORIGINAL-URL:https://discovergeorgetownsc.com
X-WR-CALDESC:Events for Georgetown SC
REFRESH-INTERVAL;VALUE=DURATION:PT1H
X-Robots-Tag:noindex
X-PUBLISHED-TTL:PT1H
BEGIN:VTIMEZONE
TZID:America/New_York
BEGIN:DAYLIGHT
TZOFFSETFROM:-0500
TZOFFSETTO:-0400
TZNAME:EDT
DTSTART:20240310T070000
END:DAYLIGHT
BEGIN:STANDARD
TZOFFSETFROM:-0400
TZOFFSETTO:-0500
TZNAME:EST
DTSTART:20241103T060000
END:STANDARD
BEGIN:DAYLIGHT
TZOFFSETFROM:-0500
TZOFFSETTO:-0400
TZNAME:EDT
DTSTART:20250309T070000
END:DAYLIGHT
BEGIN:STANDARD
TZOFFSETFROM:-0400
TZOFFSETTO:-0500
TZNAME:EST
DTSTART:20251102T060000
END:STANDARD
BEGIN:DAYLIGHT
TZOFFSETFROM:-0500
TZOFFSETTO:-0400
TZNAME:EDT
DTSTART:20260308T070000
END:DAYLIGHT
BEGIN:STANDARD
TZOFFSETFROM:-0400
TZOFFSETTO:-0500
TZNAME:EST
DTSTART:20261101T060000
END:STANDARD
END:VTIMEZONE
BEGIN:VEVENT
DTSTART;TZID=America/New_York:20251211T173000
DTEND;TZID=America/New_York:20251211T200000
DTSTAMP:20260419T100111
CREATED:20251118T152119Z
LAST-MODIFIED:20251118T152119Z
UID:10002566-1765474200-1765483200@discovergeorgetownsc.com
SUMMARY:Candlelight Tour
DESCRIPTION:Step back in time and experience the beauty of the Kaminski House illuminated by candlelight. Wander through rooms decorated with Holiday Cheer and immerse yourself in the warmth and charm of the holiday season. \nPurchase your tickets here.
URL:https://discovergeorgetownsc.com/event/candlelight-tour/
LOCATION:Kaminski House Museum\, 1003 Front Street\, Georgetown\, SC\, 29440\, United States
CATEGORIES:Christmas,Event
ATTACH;FMTTYPE=image/jpeg:https://discovergeorgetownsc.com/wp-content/uploads/2023/11/lawn.jpg
END:VEVENT
END:VCALENDAR