BEGIN:VCALENDAR
VERSION:2.0
PRODID:-//Georgetown SC - ECPv6.15.20//NONSGML v1.0//EN
CALSCALE:GREGORIAN
METHOD:PUBLISH
X-ORIGINAL-URL:https://discovergeorgetownsc.com
X-WR-CALDESC:Events for Georgetown SC
REFRESH-INTERVAL;VALUE=DURATION:PT1H
X-Robots-Tag:noindex
X-PUBLISHED-TTL:PT1H
BEGIN:VTIMEZONE
TZID:America/New_York
BEGIN:DAYLIGHT
TZOFFSETFROM:-0500
TZOFFSETTO:-0400
TZNAME:EDT
DTSTART:20240310T070000
END:DAYLIGHT
BEGIN:STANDARD
TZOFFSETFROM:-0400
TZOFFSETTO:-0500
TZNAME:EST
DTSTART:20241103T060000
END:STANDARD
BEGIN:DAYLIGHT
TZOFFSETFROM:-0500
TZOFFSETTO:-0400
TZNAME:EDT
DTSTART:20250309T070000
END:DAYLIGHT
BEGIN:STANDARD
TZOFFSETFROM:-0400
TZOFFSETTO:-0500
TZNAME:EST
DTSTART:20251102T060000
END:STANDARD
BEGIN:DAYLIGHT
TZOFFSETFROM:-0500
TZOFFSETTO:-0400
TZNAME:EDT
DTSTART:20260308T070000
END:DAYLIGHT
BEGIN:STANDARD
TZOFFSETFROM:-0400
TZOFFSETTO:-0500
TZNAME:EST
DTSTART:20261101T060000
END:STANDARD
END:VTIMEZONE
BEGIN:VEVENT
DTSTART;TZID=America/New_York:20251213T120000
DTEND;TZID=America/New_York:20251213T200000
DTSTAMP:20260419T100109
CREATED:20250929T155524Z
LAST-MODIFIED:20250929T155524Z
UID:10002555-1765627200-1765656000@discovergeorgetownsc.com
SUMMARY:Ice Skating Rink
DESCRIPTION:
URL:https://discovergeorgetownsc.com/event/ice-skating-rink/
LOCATION:Maritime Park\, 729 Front Street\, Georgetown\, SC\, 29440\, United States
CATEGORIES:Christmas,Event
ATTACH;FMTTYPE=image/jpeg:https://discovergeorgetownsc.com/wp-content/uploads/2023/09/iceskating.jpg
END:VEVENT
BEGIN:VEVENT
DTSTART;TZID=America/New_York:20251213T130000
DTEND;TZID=America/New_York:20251213T170000
DTSTAMP:20260419T100109
CREATED:20251015T180244Z
LAST-MODIFIED:20251015T180244Z
UID:10002558-1765630800-1765645200@discovergeorgetownsc.com
SUMMARY:Yuletide Home Tour
DESCRIPTION:It’s time to get into the holiday spirit! And there’s no better way to celebrate that spirit than by joining us for a tour of beautiful Georgetown homes during the twenty-third annual Friends of the Georgetown Library YULETIDE HOME TOUR. \nThis year’s event is planned for Saturday\, December 13th\, from 1 – 5 pm. \nTwelve beautiful residences in and around Georgetown’s Historic District will be decorated in holiday finery and opened for visiting. In addition\, two venerable houses of worship will open their doors to tour participants\, as well as four outstanding Georgetown museums: the Georgetown County Museum\, the Gullah Museum\, the South Carolina Maritime Museum\, and the Kaminski House Museum. \nIt’s a fun day for a great cause: supporting the Georgetown Library. \nTickets for the Tour are still $25 per person/$20 for members of Friends groups of any of the Georgetown County libraries. \nTickets may be pre-purchased online at the Friends of the Georgetown Library website. Go to https://www.myfogl.org/our-events\, scroll down to “Yuletide Home Tour\,” and click on “More Information.” \nOr you may pre-purchase them at any of the County Library branches: the Georgetown Library at 405 Cleland Street; the Andrews Library\, 105 N Morgan Street; the Carvers Bay Library\, 13048 Choppee Road; the Southern Georgetown County Library\, 4187 Powell Road; and the Waccamaw Library\, 41 St. Paul Place. \nAnd then tickets and tour information are to be picked up on December 13th any time after 10 am at the Georgetown Library at 405 Cleland Street.
URL:https://discovergeorgetownsc.com/event/yuletide-home-tour-2/
LOCATION:Front Street\, 633 Front St.\, Georgetown\, SC\, 29440\, United States
CATEGORIES:Christmas,Event
ATTACH;FMTTYPE=image/jpeg:https://discovergeorgetownsc.com/wp-content/uploads/2023/10/yuletide.jpg
END:VEVENT
BEGIN:VEVENT
DTSTART;TZID=America/New_York:20251213T173000
DTEND;TZID=America/New_York:20251213T200000
DTSTAMP:20260419T100109
CREATED:20251118T152207Z
LAST-MODIFIED:20251118T152207Z
UID:10002567-1765647000-1765656000@discovergeorgetownsc.com
SUMMARY:Candlelight Tour
DESCRIPTION:Step back in time and experience the beauty of the Kaminski House illuminated by candlelight. Wander through rooms decorated with Holiday Cheer and immerse yourself in the warmth and charm of the holiday season. \nPurchase your tickets here.
URL:https://discovergeorgetownsc.com/event/candlelight-tour-2/
LOCATION:Kaminski House Museum\, 1003 Front Street\, Georgetown\, SC\, 29440\, United States
CATEGORIES:Christmas,Event
ATTACH;FMTTYPE=image/jpeg:https://discovergeorgetownsc.com/wp-content/uploads/2023/11/lawn.jpg
END:VEVENT
END:VCALENDAR