BEGIN:VCALENDAR
VERSION:2.0
PRODID:-//Georgetown SC - ECPv6.15.20//NONSGML v1.0//EN
CALSCALE:GREGORIAN
METHOD:PUBLISH
X-WR-CALNAME:Georgetown SC
X-ORIGINAL-URL:https://discovergeorgetownsc.com
X-WR-CALDESC:Events for Georgetown SC
REFRESH-INTERVAL;VALUE=DURATION:PT1H
X-Robots-Tag:noindex
X-PUBLISHED-TTL:PT1H
BEGIN:VTIMEZONE
TZID:America/New_York
BEGIN:DAYLIGHT
TZOFFSETFROM:-0500
TZOFFSETTO:-0400
TZNAME:EDT
DTSTART:20250309T070000
END:DAYLIGHT
BEGIN:STANDARD
TZOFFSETFROM:-0400
TZOFFSETTO:-0500
TZNAME:EST
DTSTART:20251102T060000
END:STANDARD
BEGIN:DAYLIGHT
TZOFFSETFROM:-0500
TZOFFSETTO:-0400
TZNAME:EDT
DTSTART:20260308T070000
END:DAYLIGHT
BEGIN:STANDARD
TZOFFSETFROM:-0400
TZOFFSETTO:-0500
TZNAME:EST
DTSTART:20261101T060000
END:STANDARD
BEGIN:DAYLIGHT
TZOFFSETFROM:-0500
TZOFFSETTO:-0400
TZNAME:EDT
DTSTART:20270314T070000
END:DAYLIGHT
BEGIN:STANDARD
TZOFFSETFROM:-0400
TZOFFSETTO:-0500
TZNAME:EST
DTSTART:20271107T060000
END:STANDARD
END:VTIMEZONE
BEGIN:VEVENT
DTSTART;TZID=America/New_York:20260307T100000
DTEND;TZID=America/New_York:20260307T160000
DTSTAMP:20260422T131104
CREATED:20260210T153001Z
LAST-MODIFIED:20260210T190518Z
UID:10002589-1772877600-1772899200@discovergeorgetownsc.com
SUMMARY:3rd Annual Francis Marion Living History Day
DESCRIPTION:Join the Georgetown County – sponsored Francis Marion Living History Day with American Revolutionary War reenactors\, Patriot and Loyalist reenactments and educational displays from 10:00 a.m. – 4:00 p.m. on Saturday\, March 7\, 2025 in Francis Marion and Joseph Rainey Parks in Georgetown\, SC. Often called the Day of the Fox\, adults and children will spend the day immersed in the experience of the American Revolution.
URL:https://discovergeorgetownsc.com/event/3rd-annual-francis-marion-living-history-day/
LOCATION:Francis Marion Park\, 750 Front Street\, Georgetown\, SC\, 29440\, United States
CATEGORIES:Event
ATTACH;FMTTYPE=image/jpeg:https://discovergeorgetownsc.com/wp-content/uploads/2026/02/francis.jpg
END:VEVENT
BEGIN:VEVENT
DTSTART;TZID=America/New_York:20260319T173000
DTEND;TZID=America/New_York:20260319T210000
DTSTAMP:20260422T131104
CREATED:20260212T170121Z
LAST-MODIFIED:20260212T170121Z
UID:10002590-1773941400-1773954000@discovergeorgetownsc.com
SUMMARY:13th Annual Burning of the Socks
DESCRIPTION:This fundraiser for the South Carolina Maritime Museum features sock-burning festivities\, where attendees throw their winter socks into a bonfire\, an OYSTER ROAST and FULL BAR. \nMusic by TRANSISTOR RODEO\, featuring Rob Williams \nThe museum will include a sock drive for Friendship Place. So\, bring an old pair of socks to burn and a new pair to donate! \nTickets: https://harborhistoricalassociation.app.neoncrm.com/nx/portal/neonevents/events?path=%2Fportal%2Fevents%2F36355
URL:https://discovergeorgetownsc.com/event/13th-annual-burning-of-the-socks/
LOCATION:South Carolina Maritime Museum\, 729 Front St.\, Georgetown\, SC\, 29440\, United States
CATEGORIES:Event,Live Music
ATTACH;FMTTYPE=image/jpeg:https://discovergeorgetownsc.com/wp-content/uploads/2023/02/burning.jpg
END:VEVENT
BEGIN:VEVENT
DTSTART;TZID=America/New_York:20260327T090000
DTEND;TZID=America/New_York:20260327T170000
DTSTAMP:20260422T131104
CREATED:20251027T163113Z
LAST-MODIFIED:20251027T163113Z
UID:10002561-1774602000-1774630800@discovergeorgetownsc.com
SUMMARY:79th Annual Tour of Historic Plantations & Homes – Prince George Winyah Church
DESCRIPTION:Prince George Winyah Church is celebrating its 79th Annual Tour of Historic Plantations & Homes in Georgetown\, South Carolina\, set for March 27 and 28\, 2026. The Tours are always popular with decorators\, Southern history buffs\, gardeners\, and visitors to South Carolina’s coast. \nGeorgetown\, South Carolina\, founded in 1729\, was for two centuries one of the wealthiest areas in both the Colonial era\, then in the young United States. The growing of indigo in Colonial America\, then rice in the 19th century created an elite society which left behind beautiful dwellings\, gardens and public buildings\, many of which are open to our visitors only during our tours. \nWe invite you to visit our website and follow along with us on Facebook for more tour news and information on admission! Be sure to check out Friday night’s Oyster Roast\, scrumptious Bake Sale and much-talked-about Art Show and sale where you can take home gorgeous works of art at incredible prices! We hope to see you there.
URL:https://discovergeorgetownsc.com/event/79th-annual-tour-of-historic-plantations-homes-prince-george-winyah-church/2026-03-27/
LOCATION:Prince George Winyah Parish Church\, 301 Screven Street\, Georgetown\, SC\, 29440\, United States
CATEGORIES:Event
ATTACH;FMTTYPE=image/jpeg:https://discovergeorgetownsc.com/wp-content/uploads/2025/10/hometour.jpg
END:VEVENT
BEGIN:VEVENT
DTSTART;TZID=America/New_York:20260328T090000
DTEND;TZID=America/New_York:20260328T170000
DTSTAMP:20260422T131104
CREATED:20251027T163113Z
LAST-MODIFIED:20251027T163113Z
UID:10002562-1774688400-1774717200@discovergeorgetownsc.com
SUMMARY:79th Annual Tour of Historic Plantations & Homes – Prince George Winyah Church
DESCRIPTION:Prince George Winyah Church is celebrating its 79th Annual Tour of Historic Plantations & Homes in Georgetown\, South Carolina\, set for March 27 and 28\, 2026. The Tours are always popular with decorators\, Southern history buffs\, gardeners\, and visitors to South Carolina’s coast. \nGeorgetown\, South Carolina\, founded in 1729\, was for two centuries one of the wealthiest areas in both the Colonial era\, then in the young United States. The growing of indigo in Colonial America\, then rice in the 19th century created an elite society which left behind beautiful dwellings\, gardens and public buildings\, many of which are open to our visitors only during our tours. \nWe invite you to visit our website and follow along with us on Facebook for more tour news and information on admission! Be sure to check out Friday night’s Oyster Roast\, scrumptious Bake Sale and much-talked-about Art Show and sale where you can take home gorgeous works of art at incredible prices! We hope to see you there.
URL:https://discovergeorgetownsc.com/event/79th-annual-tour-of-historic-plantations-homes-prince-george-winyah-church/2026-03-28/
LOCATION:Prince George Winyah Parish Church\, 301 Screven Street\, Georgetown\, SC\, 29440\, United States
CATEGORIES:Event
ATTACH;FMTTYPE=image/jpeg:https://discovergeorgetownsc.com/wp-content/uploads/2025/10/hometour.jpg
END:VEVENT
END:VCALENDAR