BEGIN:VCALENDAR
VERSION:2.0
PRODID:-//Georgetown SC - ECPv6.15.20//NONSGML v1.0//EN
CALSCALE:GREGORIAN
METHOD:PUBLISH
X-ORIGINAL-URL:https://discovergeorgetownsc.com
X-WR-CALDESC:Events for Georgetown SC
REFRESH-INTERVAL;VALUE=DURATION:PT1H
X-Robots-Tag:noindex
X-PUBLISHED-TTL:PT1H
BEGIN:VTIMEZONE
TZID:America/New_York
BEGIN:DAYLIGHT
TZOFFSETFROM:-0500
TZOFFSETTO:-0400
TZNAME:EDT
DTSTART:20240310T070000
END:DAYLIGHT
BEGIN:STANDARD
TZOFFSETFROM:-0400
TZOFFSETTO:-0500
TZNAME:EST
DTSTART:20241103T060000
END:STANDARD
BEGIN:DAYLIGHT
TZOFFSETFROM:-0500
TZOFFSETTO:-0400
TZNAME:EDT
DTSTART:20250309T070000
END:DAYLIGHT
BEGIN:STANDARD
TZOFFSETFROM:-0400
TZOFFSETTO:-0500
TZNAME:EST
DTSTART:20251102T060000
END:STANDARD
BEGIN:DAYLIGHT
TZOFFSETFROM:-0500
TZOFFSETTO:-0400
TZNAME:EDT
DTSTART:20260308T070000
END:DAYLIGHT
BEGIN:STANDARD
TZOFFSETFROM:-0400
TZOFFSETTO:-0500
TZNAME:EST
DTSTART:20261101T060000
END:STANDARD
END:VTIMEZONE
BEGIN:VEVENT
DTSTART;TZID=America/New_York:20250114T100000
DTEND;TZID=America/New_York:20250114T120000
DTSTAMP:20260422T103514
CREATED:20240729T191944Z
LAST-MODIFIED:20240729T192009Z
UID:10001429-1736848800-1736856000@discovergeorgetownsc.com
SUMMARY:"Tuesdays With..." Lecture Series
DESCRIPTION:“Tuesdays With…” is a monthly free lecture series sponsored by the Friends of the Georgetown Library featuring excellent speakers and topics of special interest to local listeners. Lectures are held at the Library Auditorium on the third Tuesday of each month\, September through May\, at 10:00 am.
URL:https://discovergeorgetownsc.com/event/tuesdays-with-lecture-series/2025-01-14/
LOCATION:Georgetown County Public Library\, 405 Cleland Street\, Georgetown\, SC\, 29440\, United States
CATEGORIES:Event
ATTACH;FMTTYPE=image/jpeg:https://discovergeorgetownsc.com/wp-content/uploads/2023/03/lecture.jpg
END:VEVENT
BEGIN:VEVENT
DTSTART;VALUE=DATE:20250127
DTEND;VALUE=DATE:20250128
DTSTAMP:20260422T103514
CREATED:20250109T131231Z
LAST-MODIFIED:20250128T121841Z
UID:10001453-1737936000-1738022399@discovergeorgetownsc.com
SUMMARY:Georgetown Restaurant Week
DESCRIPTION:Check out the local restaurant scene while they put out their best meal and turn you on to their house specialties\, after you take a stroll along Front Street and check out all the wonderful shops! \n3 course meals from $25 to $40 served from 5 until close \n(Check the restaurant closing times on their social media pages.) \nRestaurant Week runs from January 27th through February 1st \nParticipating Restaurants \nA few of the restaurants have their menus available below\, noted with (Menu). Please click to view them. \nAlfresco Bistro (Menu)\nAunny’s\nBetween the Antlers (Menu)\nBlue Bayou Bistro (Menu)\nBuzz’s Roost (Menu)\nCorner Tavern (Menu)\nFranks On Front (Menu)\nRollin Local (Menu)\nRoot (Menu)\nThe River Room (Menu)\nSoCo Grille (Menu)\nSoCo Wood Fired Pizza (Menu)\nThe Independent (The George Hotel) (Menu)
URL:https://discovergeorgetownsc.com/event/georgetown-restaurant-week/2025-01-27/
LOCATION:Front Street\, 633 Front St.\, Georgetown\, SC\, 29440\, United States
CATEGORIES:Event
ATTACH;FMTTYPE=image/jpeg:https://discovergeorgetownsc.com/wp-content/uploads/2025/01/restaurant.jpg
END:VEVENT
BEGIN:VEVENT
DTSTART;VALUE=DATE:20250128
DTEND;VALUE=DATE:20250129
DTSTAMP:20260422T103514
CREATED:20250109T131231Z
LAST-MODIFIED:20250128T121841Z
UID:10001454-1738022400-1738108799@discovergeorgetownsc.com
SUMMARY:Georgetown Restaurant Week
DESCRIPTION:Check out the local restaurant scene while they put out their best meal and turn you on to their house specialties\, after you take a stroll along Front Street and check out all the wonderful shops! \n3 course meals from $25 to $40 served from 5 until close \n(Check the restaurant closing times on their social media pages.) \nRestaurant Week runs from January 27th through February 1st \nParticipating Restaurants \nA few of the restaurants have their menus available below\, noted with (Menu). Please click to view them. \nAlfresco Bistro (Menu)\nAunny’s\nBetween the Antlers (Menu)\nBlue Bayou Bistro (Menu)\nBuzz’s Roost (Menu)\nCorner Tavern (Menu)\nFranks On Front (Menu)\nRollin Local (Menu)\nRoot (Menu)\nThe River Room (Menu)\nSoCo Grille (Menu)\nSoCo Wood Fired Pizza (Menu)\nThe Independent (The George Hotel) (Menu)
URL:https://discovergeorgetownsc.com/event/georgetown-restaurant-week/2025-01-28/
LOCATION:Front Street\, 633 Front St.\, Georgetown\, SC\, 29440\, United States
CATEGORIES:Event
ATTACH;FMTTYPE=image/jpeg:https://discovergeorgetownsc.com/wp-content/uploads/2025/01/restaurant.jpg
END:VEVENT
BEGIN:VEVENT
DTSTART;VALUE=DATE:20250129
DTEND;VALUE=DATE:20250130
DTSTAMP:20260422T103514
CREATED:20250109T131231Z
LAST-MODIFIED:20250128T121841Z
UID:10001455-1738108800-1738195199@discovergeorgetownsc.com
SUMMARY:Georgetown Restaurant Week
DESCRIPTION:Check out the local restaurant scene while they put out their best meal and turn you on to their house specialties\, after you take a stroll along Front Street and check out all the wonderful shops! \n3 course meals from $25 to $40 served from 5 until close \n(Check the restaurant closing times on their social media pages.) \nRestaurant Week runs from January 27th through February 1st \nParticipating Restaurants \nA few of the restaurants have their menus available below\, noted with (Menu). Please click to view them. \nAlfresco Bistro (Menu)\nAunny’s\nBetween the Antlers (Menu)\nBlue Bayou Bistro (Menu)\nBuzz’s Roost (Menu)\nCorner Tavern (Menu)\nFranks On Front (Menu)\nRollin Local (Menu)\nRoot (Menu)\nThe River Room (Menu)\nSoCo Grille (Menu)\nSoCo Wood Fired Pizza (Menu)\nThe Independent (The George Hotel) (Menu)
URL:https://discovergeorgetownsc.com/event/georgetown-restaurant-week/2025-01-29/
LOCATION:Front Street\, 633 Front St.\, Georgetown\, SC\, 29440\, United States
CATEGORIES:Event
ATTACH;FMTTYPE=image/jpeg:https://discovergeorgetownsc.com/wp-content/uploads/2025/01/restaurant.jpg
END:VEVENT
BEGIN:VEVENT
DTSTART;VALUE=DATE:20250130
DTEND;VALUE=DATE:20250131
DTSTAMP:20260422T103514
CREATED:20250109T131231Z
LAST-MODIFIED:20250128T121841Z
UID:10001456-1738195200-1738281599@discovergeorgetownsc.com
SUMMARY:Georgetown Restaurant Week
DESCRIPTION:Check out the local restaurant scene while they put out their best meal and turn you on to their house specialties\, after you take a stroll along Front Street and check out all the wonderful shops! \n3 course meals from $25 to $40 served from 5 until close \n(Check the restaurant closing times on their social media pages.) \nRestaurant Week runs from January 27th through February 1st \nParticipating Restaurants \nA few of the restaurants have their menus available below\, noted with (Menu). Please click to view them. \nAlfresco Bistro (Menu)\nAunny’s\nBetween the Antlers (Menu)\nBlue Bayou Bistro (Menu)\nBuzz’s Roost (Menu)\nCorner Tavern (Menu)\nFranks On Front (Menu)\nRollin Local (Menu)\nRoot (Menu)\nThe River Room (Menu)\nSoCo Grille (Menu)\nSoCo Wood Fired Pizza (Menu)\nThe Independent (The George Hotel) (Menu)
URL:https://discovergeorgetownsc.com/event/georgetown-restaurant-week/2025-01-30/
LOCATION:Front Street\, 633 Front St.\, Georgetown\, SC\, 29440\, United States
CATEGORIES:Event
ATTACH;FMTTYPE=image/jpeg:https://discovergeorgetownsc.com/wp-content/uploads/2025/01/restaurant.jpg
END:VEVENT
BEGIN:VEVENT
DTSTART;VALUE=DATE:20250131
DTEND;VALUE=DATE:20250201
DTSTAMP:20260422T103514
CREATED:20250109T131231Z
LAST-MODIFIED:20250128T121841Z
UID:10001457-1738281600-1738367999@discovergeorgetownsc.com
SUMMARY:Georgetown Restaurant Week
DESCRIPTION:Check out the local restaurant scene while they put out their best meal and turn you on to their house specialties\, after you take a stroll along Front Street and check out all the wonderful shops! \n3 course meals from $25 to $40 served from 5 until close \n(Check the restaurant closing times on their social media pages.) \nRestaurant Week runs from January 27th through February 1st \nParticipating Restaurants \nA few of the restaurants have their menus available below\, noted with (Menu). Please click to view them. \nAlfresco Bistro (Menu)\nAunny’s\nBetween the Antlers (Menu)\nBlue Bayou Bistro (Menu)\nBuzz’s Roost (Menu)\nCorner Tavern (Menu)\nFranks On Front (Menu)\nRollin Local (Menu)\nRoot (Menu)\nThe River Room (Menu)\nSoCo Grille (Menu)\nSoCo Wood Fired Pizza (Menu)\nThe Independent (The George Hotel) (Menu)
URL:https://discovergeorgetownsc.com/event/georgetown-restaurant-week/2025-01-31/
LOCATION:Front Street\, 633 Front St.\, Georgetown\, SC\, 29440\, United States
CATEGORIES:Event
ATTACH;FMTTYPE=image/jpeg:https://discovergeorgetownsc.com/wp-content/uploads/2025/01/restaurant.jpg
END:VEVENT
END:VCALENDAR