BEGIN:VCALENDAR
VERSION:2.0
PRODID:-//Georgetown SC - ECPv6.15.20//NONSGML v1.0//EN
CALSCALE:GREGORIAN
METHOD:PUBLISH
X-WR-CALNAME:Georgetown SC
X-ORIGINAL-URL:https://discovergeorgetownsc.com
X-WR-CALDESC:Events for Georgetown SC
REFRESH-INTERVAL;VALUE=DURATION:PT1H
X-Robots-Tag:noindex
X-PUBLISHED-TTL:PT1H
BEGIN:VTIMEZONE
TZID:America/New_York
BEGIN:DAYLIGHT
TZOFFSETFROM:-0500
TZOFFSETTO:-0400
TZNAME:EDT
DTSTART:20240310T070000
END:DAYLIGHT
BEGIN:STANDARD
TZOFFSETFROM:-0400
TZOFFSETTO:-0500
TZNAME:EST
DTSTART:20241103T060000
END:STANDARD
BEGIN:DAYLIGHT
TZOFFSETFROM:-0500
TZOFFSETTO:-0400
TZNAME:EDT
DTSTART:20250309T070000
END:DAYLIGHT
BEGIN:STANDARD
TZOFFSETFROM:-0400
TZOFFSETTO:-0500
TZNAME:EST
DTSTART:20251102T060000
END:STANDARD
BEGIN:DAYLIGHT
TZOFFSETFROM:-0500
TZOFFSETTO:-0400
TZNAME:EDT
DTSTART:20260308T070000
END:DAYLIGHT
BEGIN:STANDARD
TZOFFSETFROM:-0400
TZOFFSETTO:-0500
TZNAME:EST
DTSTART:20261101T060000
END:STANDARD
END:VTIMEZONE
BEGIN:VEVENT
DTSTART;VALUE=DATE:20250201
DTEND;VALUE=DATE:20250202
DTSTAMP:20260422T074943
CREATED:20250109T131231Z
LAST-MODIFIED:20250128T121841Z
UID:10001458-1738368000-1738454399@discovergeorgetownsc.com
SUMMARY:Georgetown Restaurant Week
DESCRIPTION:Check out the local restaurant scene while they put out their best meal and turn you on to their house specialties\, after you take a stroll along Front Street and check out all the wonderful shops! \n3 course meals from $25 to $40 served from 5 until close \n(Check the restaurant closing times on their social media pages.) \nRestaurant Week runs from January 27th through February 1st \nParticipating Restaurants \nA few of the restaurants have their menus available below\, noted with (Menu). Please click to view them. \nAlfresco Bistro (Menu)\nAunny’s\nBetween the Antlers (Menu)\nBlue Bayou Bistro (Menu)\nBuzz’s Roost (Menu)\nCorner Tavern (Menu)\nFranks On Front (Menu)\nRollin Local (Menu)\nRoot (Menu)\nThe River Room (Menu)\nSoCo Grille (Menu)\nSoCo Wood Fired Pizza (Menu)\nThe Independent (The George Hotel) (Menu)
URL:https://discovergeorgetownsc.com/event/georgetown-restaurant-week/2025-02-01/
LOCATION:Front Street\, 633 Front St.\, Georgetown\, SC\, 29440\, United States
CATEGORIES:Event
ATTACH;FMTTYPE=image/jpeg:https://discovergeorgetownsc.com/wp-content/uploads/2025/01/restaurant.jpg
END:VEVENT
BEGIN:VEVENT
DTSTART;TZID=America/New_York:20250201T150000
DTEND;TZID=America/New_York:20250201T170000
DTSTAMP:20260422T074943
CREATED:20250109T131315Z
LAST-MODIFIED:20250109T131315Z
UID:10001824-1738422000-1738429200@discovergeorgetownsc.com
SUMMARY:Sip & Shop
DESCRIPTION:Sip & Shop at the local retail shops\, on Saturday February 1st from 3pm to 5pm. Enjoy a sip while you shop at some of some of coolest places you’ve seen!
URL:https://discovergeorgetownsc.com/event/sip-shop/
LOCATION:Front Street\, 633 Front St.\, Georgetown\, SC\, 29440\, United States
CATEGORIES:Event
ATTACH;FMTTYPE=image/jpeg:https://discovergeorgetownsc.com/wp-content/uploads/2022/11/wine.jpg
END:VEVENT
BEGIN:VEVENT
DTSTART;TZID=America/New_York:20250208T100000
DTEND;TZID=America/New_York:20250208T170000
DTSTAMP:20260422T074943
CREATED:20250116T155811Z
LAST-MODIFIED:20250714T163436Z
UID:10001825-1739008800-1739034000@discovergeorgetownsc.com
SUMMARY:Second Saturday Sidewalk Sale
DESCRIPTION:
URL:https://discovergeorgetownsc.com/event/second-saturday-sidewalk-sale/2025-02-08/
LOCATION:Front Street\, 633 Front St.\, Georgetown\, SC\, 29440\, United States
CATEGORIES:Event
ATTACH;FMTTYPE=image/jpeg:https://discovergeorgetownsc.com/wp-content/uploads/2025/01/sidewalk.jpg
END:VEVENT
BEGIN:VEVENT
DTSTART;TZID=America/New_York:20250214T170000
DTEND;TZID=America/New_York:20250214T220000
DTSTAMP:20260422T074943
CREATED:20250213T125417Z
LAST-MODIFIED:20250213T125417Z
UID:10002228-1739552400-1739570400@discovergeorgetownsc.com
SUMMARY:Valentines Weekend Four Course Sweetheart Dinner
DESCRIPTION:Available Friday & Saturday February 14th and 15th \nCall SoCo Grille for reservations at 843-833-8789 \n$55 per person \nFirst Course\nFrench Onion Soup Gruyere and parmesan with garlic crouton \nSoCo Chophouse Salad artichokes\, heirloom tomatoes\, hearts of palm\, tarragon cream dressing \nSecond Course\nChophouse Baked Stuffed Portabella w/ pancetta\, goat cheese\, artichoke hearts\, fontina \nOysters’ Rockefeller fresh spinach\, bacon\, parmesan\, Pernod\, baked w/ hollandaise sauce \nThird Course\nBeef Wellington wild mushroom duxelles\, garlic butter\, baked in puff pastry w/ a port wine sauce\, served with horseradish blue cheese mashed and roasted red pepper wrapped grilled asparagus \nStuffed Chicken Breast with sundried tomato\, Boursin cheese\, caramelized onion\, prosciutto\, pesto cream\, served with roasted corn pudding and parmesan garlic Orzo pasta \nSeared Parmesan Encrusted Grouper lemon caper sauce\, lump crab risotto & fried cauliflower \nFourth Course\nChocolate Sack for Two filled with white chocolate mousse\, poundcake\, fresh berries\, served on crème anglaise with raspberry coulis \nCinnamon Roll Cheesecake served w/ a cinnamon and burnt orange glaze\, Grand Marnier whipped cream
URL:https://discovergeorgetownsc.com/event/valentines-weekend-four-course-sweetheart-dinner/2025-02-14/
LOCATION:SoCo Grille\, 19 Front St.\, Georgetown\, SC\, 29440\, United States
CATEGORIES:Event
ATTACH;FMTTYPE=image/jpeg:https://discovergeorgetownsc.com/wp-content/uploads/2025/02/valentines.jpg
END:VEVENT
BEGIN:VEVENT
DTSTART;TZID=America/New_York:20250215T150000
DTEND;TZID=America/New_York:20250215T180000
DTSTAMP:20260422T074943
CREATED:20250212T205831Z
LAST-MODIFIED:20250212T205831Z
UID:10002227-1739631600-1739642400@discovergeorgetownsc.com
SUMMARY:Live Music With Scott Smith
DESCRIPTION:
URL:https://discovergeorgetownsc.com/event/live-music-with-scott-smith/
LOCATION:The George Hotel\, 615 Front St.\, Georgetown\, SC\, 29440\, United States
CATEGORIES:Live Music
ATTACH;FMTTYPE=image/jpeg:https://discovergeorgetownsc.com/wp-content/uploads/2021/08/livemusic.jpg
END:VEVENT
BEGIN:VEVENT
DTSTART;TZID=America/New_York:20250215T170000
DTEND;TZID=America/New_York:20250215T220000
DTSTAMP:20260422T074943
CREATED:20250213T125417Z
LAST-MODIFIED:20250213T125417Z
UID:10002229-1739638800-1739656800@discovergeorgetownsc.com
SUMMARY:Valentines Weekend Four Course Sweetheart Dinner
DESCRIPTION:Available Friday & Saturday February 14th and 15th \nCall SoCo Grille for reservations at 843-833-8789 \n$55 per person \nFirst Course\nFrench Onion Soup Gruyere and parmesan with garlic crouton \nSoCo Chophouse Salad artichokes\, heirloom tomatoes\, hearts of palm\, tarragon cream dressing \nSecond Course\nChophouse Baked Stuffed Portabella w/ pancetta\, goat cheese\, artichoke hearts\, fontina \nOysters’ Rockefeller fresh spinach\, bacon\, parmesan\, Pernod\, baked w/ hollandaise sauce \nThird Course\nBeef Wellington wild mushroom duxelles\, garlic butter\, baked in puff pastry w/ a port wine sauce\, served with horseradish blue cheese mashed and roasted red pepper wrapped grilled asparagus \nStuffed Chicken Breast with sundried tomato\, Boursin cheese\, caramelized onion\, prosciutto\, pesto cream\, served with roasted corn pudding and parmesan garlic Orzo pasta \nSeared Parmesan Encrusted Grouper lemon caper sauce\, lump crab risotto & fried cauliflower \nFourth Course\nChocolate Sack for Two filled with white chocolate mousse\, poundcake\, fresh berries\, served on crème anglaise with raspberry coulis \nCinnamon Roll Cheesecake served w/ a cinnamon and burnt orange glaze\, Grand Marnier whipped cream
URL:https://discovergeorgetownsc.com/event/valentines-weekend-four-course-sweetheart-dinner/2025-02-15/
LOCATION:SoCo Grille\, 19 Front St.\, Georgetown\, SC\, 29440\, United States
CATEGORIES:Event
ATTACH;FMTTYPE=image/jpeg:https://discovergeorgetownsc.com/wp-content/uploads/2025/02/valentines.jpg
END:VEVENT
BEGIN:VEVENT
DTSTART;TZID=America/New_York:20250218T100000
DTEND;TZID=America/New_York:20250218T120000
DTSTAMP:20260422T074943
CREATED:20240729T191944Z
LAST-MODIFIED:20240729T192009Z
UID:10001430-1739872800-1739880000@discovergeorgetownsc.com
SUMMARY:"Tuesdays With..." Lecture Series
DESCRIPTION:“Tuesdays With…” is a monthly free lecture series sponsored by the Friends of the Georgetown Library featuring excellent speakers and topics of special interest to local listeners. Lectures are held at the Library Auditorium on the third Tuesday of each month\, September through May\, at 10:00 am.
URL:https://discovergeorgetownsc.com/event/tuesdays-with-lecture-series/2025-02-18/
LOCATION:Georgetown County Public Library\, 405 Cleland Street\, Georgetown\, SC\, 29440\, United States
CATEGORIES:Event
ATTACH;FMTTYPE=image/jpeg:https://discovergeorgetownsc.com/wp-content/uploads/2023/03/lecture.jpg
END:VEVENT
BEGIN:VEVENT
DTSTART;TZID=America/New_York:20250218T100000
DTEND;TZID=America/New_York:20250218T120000
DTSTAMP:20260422T074943
CREATED:20250214T151311Z
LAST-MODIFIED:20250214T151311Z
UID:10002231-1739872800-1739880000@discovergeorgetownsc.com
SUMMARY:Friends of the Georgetown Library Monthly Lecture
DESCRIPTION:The February Friends Lecture/”Tuesdays With…” is Tuesday\, the 18th\, at 10:00 am at the Georgetown Library Auditorium. It will feature a presentation by Kendy Altizer\, Assistant Professor of Anthropology at North Georgia University. The title of her presentation will be “The Most Inhospitable of Environments: Enslaved Life in the Rice Fields of the Santee Delta\,” based on her recent archaeological work on the delta. \nPlease reserve the date on your calendar and plan to join us.
URL:https://discovergeorgetownsc.com/event/friends-of-the-georgetown-library-monthly-lecture/
LOCATION:Georgetown County Public Library\, 405 Cleland Street\, Georgetown\, SC\, 29440\, United States
CATEGORIES:Event
ATTACH;FMTTYPE=image/jpeg:https://discovergeorgetownsc.com/wp-content/uploads/2023/03/lecture.jpg
END:VEVENT
BEGIN:VEVENT
DTSTART;TZID=America/New_York:20250227T130000
DTEND;TZID=America/New_York:20250227T170000
DTSTAMP:20260422T074943
CREATED:20250224T135754Z
LAST-MODIFIED:20250224T135754Z
UID:10002232-1740661200-1740675600@discovergeorgetownsc.com
SUMMARY:Joseph Ribkoff Trunk Show By Georgie Girl
DESCRIPTION:
URL:https://discovergeorgetownsc.com/event/joseph-ribkoff-trunk-show-by-georgie-girl/
LOCATION:Georgie Girl\, 916 Front Street\, Georgetown\, SC\, 29440\, United States
CATEGORIES:Event
ATTACH;FMTTYPE=image/jpeg:https://discovergeorgetownsc.com/wp-content/uploads/2025/02/trunk.jpg
END:VEVENT
BEGIN:VEVENT
DTSTART;TZID=America/New_York:20250227T140000
DTEND;TZID=America/New_York:20250227T160000
DTSTAMP:20260422T074943
CREATED:20250226T154641Z
LAST-MODIFIED:20250226T154641Z
UID:10002495-1740664800-1740672000@discovergeorgetownsc.com
SUMMARY:Mustering the First South—Gullah Geechee Volunteer Troops
DESCRIPTION:The 1st South Carolina Volunteers of African Descent (33rd U.S. Colored Troops) experienced many “firsts” – first Black Union regiment to be sent into combat\, beginning of continuous Black military service in the U.S. Army\, first public reading of the Emancipation Proclamation\, and many more. \nJoin us at the Gullah Museum at 2 p.m. ET on Thursday\, February 27th\, for a free lecture on “Mustering the First South” with Elizabeth Laney\, MA\, a historian and research associate with the University of South Carolina Beaufort’s Institute for the Study of the Reconstruction Era. She specializes in the history of South Carolina African American communities\, the state’s African American military heritage\, the Reconstruction Era and local/community histories. \nDuring this program learn more about the history of this remarkable regiment\, as well as its ties to Georgetown County and local Gullah Communities. This program is suitable for all ages.
URL:https://discovergeorgetownsc.com/event/mustering-the-first-south-gullah-geechee-volunteer-troops/
LOCATION:Gullah Museum\, 123 King Street #6\, Georgetown\, SC\, 29440\, United States
CATEGORIES:Event
ATTACH;FMTTYPE=image/jpeg:https://discovergeorgetownsc.com/wp-content/uploads/2025/02/1SCVAD-v2.jpg
END:VEVENT
END:VCALENDAR