BEGIN:VCALENDAR
VERSION:2.0
PRODID:-//Georgetown SC - ECPv6.15.20//NONSGML v1.0//EN
CALSCALE:GREGORIAN
METHOD:PUBLISH
X-WR-CALNAME:Georgetown SC
X-ORIGINAL-URL:https://discovergeorgetownsc.com
X-WR-CALDESC:Events for Georgetown SC
REFRESH-INTERVAL;VALUE=DURATION:PT1H
X-Robots-Tag:noindex
X-PUBLISHED-TTL:PT1H
BEGIN:VTIMEZONE
TZID:America/New_York
BEGIN:DAYLIGHT
TZOFFSETFROM:-0500
TZOFFSETTO:-0400
TZNAME:EDT
DTSTART:20240310T070000
END:DAYLIGHT
BEGIN:STANDARD
TZOFFSETFROM:-0400
TZOFFSETTO:-0500
TZNAME:EST
DTSTART:20241103T060000
END:STANDARD
BEGIN:DAYLIGHT
TZOFFSETFROM:-0500
TZOFFSETTO:-0400
TZNAME:EDT
DTSTART:20250309T070000
END:DAYLIGHT
BEGIN:STANDARD
TZOFFSETFROM:-0400
TZOFFSETTO:-0500
TZNAME:EST
DTSTART:20251102T060000
END:STANDARD
BEGIN:DAYLIGHT
TZOFFSETFROM:-0500
TZOFFSETTO:-0400
TZNAME:EDT
DTSTART:20260308T070000
END:DAYLIGHT
BEGIN:STANDARD
TZOFFSETFROM:-0400
TZOFFSETTO:-0500
TZNAME:EST
DTSTART:20261101T060000
END:STANDARD
END:VTIMEZONE
BEGIN:VEVENT
DTSTART;TZID=America/New_York:20251003T170000
DTEND;TZID=America/New_York:20251003T220000
DTSTAMP:20260421T184435
CREATED:20251003T122330Z
LAST-MODIFIED:20251003T122330Z
UID:10002556-1759510800-1759528800@discovergeorgetownsc.com
SUMMARY:Oktoberfest Food Specials
DESCRIPTION:
URL:https://discovergeorgetownsc.com/event/oktoberfest-food-specials/2025-10-03/
LOCATION:SoCo Grille\, 19 Front St.\, Georgetown\, SC\, 29440\, United States
CATEGORIES:Event
ATTACH;FMTTYPE=image/jpeg:https://discovergeorgetownsc.com/wp-content/uploads/2023/05/beer.jpg
END:VEVENT
BEGIN:VEVENT
DTSTART;TZID=America/New_York:20251004T170000
DTEND;TZID=America/New_York:20251004T220000
DTSTAMP:20260421T184435
CREATED:20251003T122330Z
LAST-MODIFIED:20251003T122330Z
UID:10002557-1759597200-1759615200@discovergeorgetownsc.com
SUMMARY:Oktoberfest Food Specials
DESCRIPTION:
URL:https://discovergeorgetownsc.com/event/oktoberfest-food-specials/2025-10-04/
LOCATION:SoCo Grille\, 19 Front St.\, Georgetown\, SC\, 29440\, United States
CATEGORIES:Event
ATTACH;FMTTYPE=image/jpeg:https://discovergeorgetownsc.com/wp-content/uploads/2023/05/beer.jpg
END:VEVENT
BEGIN:VEVENT
DTSTART;TZID=America/New_York:20251004T173000
DTEND;TZID=America/New_York:20251004T213000
DTSTAMP:20260421T184435
CREATED:20250819T172924Z
LAST-MODIFIED:20250819T172924Z
UID:10002542-1759599000-1759613400@discovergeorgetownsc.com
SUMMARY:16th Annual Wild Side
DESCRIPTION:SCELP’s 16th annual Wild Side\, presented by Biohabitats\, will be held in historic Georgetown\, South Carolina on Saturday\, October 4. Under the majestic oaks of Kaminski House\, guests will enjoy a fantastic catered dinner with cocktails\, live music from Prettier Than Matt and waterfront views from the sprawling lawn. \nThis year’s featured speaker will be Pamela Martin\, Professor of Political Science at Coastal Carolina University and Executive Director of CCU’s RISE Center\, which stands for Resilience\, Innovation\, and Sustainability through Education. She will share insights on global environmental policy and the rights of nature. \nAll proceeds benefit SCELP’s pro-bono legal work on behalf of South Carolina’s land\, water and communities. Join us for an unforgettable experience!
URL:https://discovergeorgetownsc.com/event/16th-annual-wild-side/
LOCATION:Kaminski House Museum\, 1003 Front Street\, Georgetown\, SC\, 29440\, United States
CATEGORIES:Event
ATTACH;FMTTYPE=image/jpeg:https://discovergeorgetownsc.com/wp-content/uploads/2025/08/DSC_8569.jpg
END:VEVENT
BEGIN:VEVENT
DTSTART;TZID=America/New_York:20251011T080000
DTEND;TZID=America/New_York:20251011T120000
DTSTAMP:20260421T184435
CREATED:20250821T142428Z
LAST-MODIFIED:20250821T142428Z
UID:10002546-1760169600-1760184000@discovergeorgetownsc.com
SUMMARY:Fall Community Yard Sale
DESCRIPTION:Want to hold a yard sale without all the hassle\, signs\, and crowds on your lawn? The Georgetown Library has the perfect solution!\nThe Friends of the Georgetown Library is sponsoring a Community Yard Sale on Saturday\, October 11th\, from 8:00 am until noon\, in the Judicial Center parking lot on the corner of Dozier Street and Highway 17 just behind the Georgetown Library. The rain date is October 25th. Set-up for the sale will be at 6:30 am\, and multiple selling spaces may be purchased. \nTo purchase selling space\, register online at myfogl.org/projects or visit the Georgetown Library at 405 Cleland Street. Spaces are available at $15 for a single space\, or $20 for a double space. Proceeds from the purchase of selling spaces will go toward Library programming. \nThere will be no admission charge for buyers\, and everyone is invited to browse and shop! \nLooking for antiques\, clothes\, tools\, kids’ toys\, jewelry\, baked goods\, etc.\, etc.\, etc.\, at the ultimate discount? For those of you looking to shop\, treasures and treats are always on hand at the sale\, so please mark October 12th on your calendar\, and spend a sunny\, savings-savvy morning with the Friends of the Georgetown Library. For more information\, please contact Bob Willey at rwilley1019@gmail.com
URL:https://discovergeorgetownsc.com/event/fall-community-yard-sale/
LOCATION:Georgetown County Public Library\, 405 Cleland Street\, Georgetown\, SC\, 29440\, United States
CATEGORIES:Event
ATTACH;FMTTYPE=image/jpeg:https://discovergeorgetownsc.com/wp-content/uploads/2023/03/yardsale.jpg
END:VEVENT
BEGIN:VEVENT
DTSTART;TZID=America/New_York:20251011T100000
DTEND;TZID=America/New_York:20251011T170000
DTSTAMP:20260421T184435
CREATED:20250116T155811Z
LAST-MODIFIED:20250714T163436Z
UID:10002534-1760176800-1760202000@discovergeorgetownsc.com
SUMMARY:Second Saturday Sidewalk Sale
DESCRIPTION:
URL:https://discovergeorgetownsc.com/event/second-saturday-sidewalk-sale/2025-10-11/
LOCATION:Front Street\, 633 Front St.\, Georgetown\, SC\, 29440\, United States
CATEGORIES:Event
ATTACH;FMTTYPE=image/jpeg:https://discovergeorgetownsc.com/wp-content/uploads/2025/01/sidewalk.jpg
END:VEVENT
BEGIN:VEVENT
DTSTART;TZID=America/New_York:20251018T110000
DTEND;TZID=America/New_York:20251018T180000
DTSTAMP:20260421T184435
CREATED:20250818T170622Z
LAST-MODIFIED:20250818T170622Z
UID:10002539-1760785200-1760810400@discovergeorgetownsc.com
SUMMARY:36th Annual Georgetown Wooden Boat Show
DESCRIPTION:Held each October along historic Front Street\, the Georgetown Wooden Boat Show is one of the Southeast’s premier wooden boat events. The festival features more than 100 classic and wooden boats on display\, both on land and in the water\, as well as a boatbuilding competition\, maritime art and crafts\, children’s activities\, music\, and food. A fundraiser for the South Carolina Maritime Museum\, the Wooden Boat Show draws thousands of visitors each year to celebrate Georgetown’s rich maritime heritage.
URL:https://discovergeorgetownsc.com/event/36th-annual-georgetown-wooden-boat-show/2025-10-18/
LOCATION:Front Street\, 633 Front St.\, Georgetown\, SC\, 29440\, United States
CATEGORIES:Event
ATTACH;FMTTYPE=image/jpeg:https://discovergeorgetownsc.com/wp-content/uploads/2021/08/woodenboat.jpg
END:VEVENT
BEGIN:VEVENT
DTSTART;TZID=America/New_York:20251019T110000
DTEND;TZID=America/New_York:20251019T160000
DTSTAMP:20260421T184435
CREATED:20250818T170622Z
LAST-MODIFIED:20250818T170622Z
UID:10002540-1760871600-1760889600@discovergeorgetownsc.com
SUMMARY:36th Annual Georgetown Wooden Boat Show
DESCRIPTION:Held each October along historic Front Street\, the Georgetown Wooden Boat Show is one of the Southeast’s premier wooden boat events. The festival features more than 100 classic and wooden boats on display\, both on land and in the water\, as well as a boatbuilding competition\, maritime art and crafts\, children’s activities\, music\, and food. A fundraiser for the South Carolina Maritime Museum\, the Wooden Boat Show draws thousands of visitors each year to celebrate Georgetown’s rich maritime heritage.
URL:https://discovergeorgetownsc.com/event/36th-annual-georgetown-wooden-boat-show/2025-10-19/
LOCATION:Front Street\, 633 Front St.\, Georgetown\, SC\, 29440\, United States
CATEGORIES:Event
ATTACH;FMTTYPE=image/jpeg:https://discovergeorgetownsc.com/wp-content/uploads/2021/08/woodenboat.jpg
END:VEVENT
BEGIN:VEVENT
DTSTART;TZID=America/New_York:20251021T100000
DTEND;TZID=America/New_York:20251021T110000
DTSTAMP:20260421T184435
CREATED:20250821T142222Z
LAST-MODIFIED:20250821T142222Z
UID:10002544-1761040800-1761044400@discovergeorgetownsc.com
SUMMARY:October "Tuesdays With..." Lecture at the Georgetown Library
DESCRIPTION:
URL:https://discovergeorgetownsc.com/event/october-tuesdays-with-lecture-at-the-georgetown-library/
LOCATION:Georgetown County Public Library\, 405 Cleland Street\, Georgetown\, SC\, 29440\, United States
CATEGORIES:Event
ATTACH;FMTTYPE=image/jpeg:https://discovergeorgetownsc.com/wp-content/uploads/2022/01/lecture-1.jpg
END:VEVENT
BEGIN:VEVENT
DTSTART;TZID=America/New_York:20251025T160000
DTEND;TZID=America/New_York:20251025T190000
DTSTAMP:20260421T184435
CREATED:20250904T173319Z
LAST-MODIFIED:20250904T173319Z
UID:10002548-1761408000-1761418800@discovergeorgetownsc.com
SUMMARY:Southern Pizza Company (SPC) Annual Trunk or Treat
DESCRIPTION:
URL:https://discovergeorgetownsc.com/event/southern-pizza-company-spc-annual-trunk-or-treat/
LOCATION:Southern Pizza Company\, 532 Church Street\, Georgetown\, SC\, 29440\, United States
CATEGORIES:Event
ATTACH;FMTTYPE=image/jpeg:https://discovergeorgetownsc.com/wp-content/uploads/2025/09/trunk.jpg
END:VEVENT
END:VCALENDAR