BEGIN:VCALENDAR
VERSION:2.0
PRODID:-//Georgetown SC - ECPv6.15.20//NONSGML v1.0//EN
CALSCALE:GREGORIAN
METHOD:PUBLISH
X-ORIGINAL-URL:https://discovergeorgetownsc.com
X-WR-CALDESC:Events for Georgetown SC
REFRESH-INTERVAL;VALUE=DURATION:PT1H
X-Robots-Tag:noindex
X-PUBLISHED-TTL:PT1H
BEGIN:VTIMEZONE
TZID:America/New_York
BEGIN:DAYLIGHT
TZOFFSETFROM:-0500
TZOFFSETTO:-0400
TZNAME:EDT
DTSTART:20240310T070000
END:DAYLIGHT
BEGIN:STANDARD
TZOFFSETFROM:-0400
TZOFFSETTO:-0500
TZNAME:EST
DTSTART:20241103T060000
END:STANDARD
BEGIN:DAYLIGHT
TZOFFSETFROM:-0500
TZOFFSETTO:-0400
TZNAME:EDT
DTSTART:20250309T070000
END:DAYLIGHT
BEGIN:STANDARD
TZOFFSETFROM:-0400
TZOFFSETTO:-0500
TZNAME:EST
DTSTART:20251102T060000
END:STANDARD
BEGIN:DAYLIGHT
TZOFFSETFROM:-0500
TZOFFSETTO:-0400
TZNAME:EDT
DTSTART:20260308T070000
END:DAYLIGHT
BEGIN:STANDARD
TZOFFSETFROM:-0400
TZOFFSETTO:-0500
TZNAME:EST
DTSTART:20261101T060000
END:STANDARD
END:VTIMEZONE
BEGIN:VEVENT
DTSTART;TZID=America/New_York:20251108T090000
DTEND;TZID=America/New_York:20251108T133000
DTSTAMP:20260421T201022
CREATED:20250902T142014Z
LAST-MODIFIED:20250902T142014Z
UID:10002547-1762592400-1762608600@discovergeorgetownsc.com
SUMMARY:GFA Holiday Market
DESCRIPTION:
URL:https://discovergeorgetownsc.com/event/gfa-holiday-market/
LOCATION:Georgetown First Assembly of God\, 331 St. James Street\, Georgetown\, SC\, 29440\, United States
CATEGORIES:Christmas,Event
ATTACH;FMTTYPE=image/jpeg:https://discovergeorgetownsc.com/wp-content/uploads/2021/08/christmasmusic.jpg
END:VEVENT
BEGIN:VEVENT
DTSTART;TZID=America/New_York:20251108T100000
DTEND;TZID=America/New_York:20251108T170000
DTSTAMP:20260421T201022
CREATED:20250116T155811Z
LAST-MODIFIED:20250714T163436Z
UID:10002535-1762596000-1762621200@discovergeorgetownsc.com
SUMMARY:Second Saturday Sidewalk Sale
DESCRIPTION:
URL:https://discovergeorgetownsc.com/event/second-saturday-sidewalk-sale/2025-11-08/
LOCATION:Front Street\, 633 Front St.\, Georgetown\, SC\, 29440\, United States
CATEGORIES:Event
ATTACH;FMTTYPE=image/jpeg:https://discovergeorgetownsc.com/wp-content/uploads/2025/01/sidewalk.jpg
END:VEVENT
BEGIN:VEVENT
DTSTART;TZID=America/New_York:20251108T110000
DTEND;TZID=America/New_York:20251108T170000
DTSTAMP:20260421T201022
CREATED:20251103T145309Z
LAST-MODIFIED:20251103T145309Z
UID:10002564-1762599600-1762621200@discovergeorgetownsc.com
SUMMARY:Men’s Liverpool Trunk Show
DESCRIPTION:Join us for a Liverpool Trunk Show Saturday November 8th 11AM-5PM at our Georgetown location. Meet our Liverpool Specialist and receive a free gift with purchase while supplies last. Also enter to win a free pair of Liverpool jeans. Retail Therapy Men’s 917 Front Street Georgetown Saturday November 8th.
URL:https://discovergeorgetownsc.com/event/mens-liverpool-trunk-show/
LOCATION:Retail Therapy Men’s\, 917 Front Street\, Georgetown\, SC\, 29440\, United States
CATEGORIES:Event
ATTACH;FMTTYPE=image/jpeg:https://discovergeorgetownsc.com/wp-content/uploads/2025/11/liverpool.jpg
END:VEVENT
BEGIN:VEVENT
DTSTART;TZID=America/New_York:20251114T183000
DTEND;TZID=America/New_York:20251114T210000
DTSTAMP:20260421T201022
CREATED:20251027T133309Z
LAST-MODIFIED:20251027T133309Z
UID:10002560-1763145000-1763154000@discovergeorgetownsc.com
SUMMARY:Georgetown Ducks Unlimited Sportsman's Banquet
DESCRIPTION:Join us for one of Georgetown’s favorite fall traditions — the Georgetown Ducks Unlimited Sportsman’s Banquet! Come enjoy a night celebrating conservation\, community\, and the great outdoors right here in the Lowcountry. \nEnjoy: \n\nA hearty dinner and drinks\nRaffles\, games\, and exclusive auctions featuring top outdoor gear\, firearms\, and more\nGood times with fellow sportsmen and conservation supporters\n\nEvery ticket sold helps Ducks Unlimited continue conserving wetlands and protecting the future of waterfowl\, wildlife\, and our outdoor heritage across the Black\, Pee Dee\, Santee\, and Waccamaw river systems. \nSeating is limited — don’t miss this great night for the ducks!
URL:https://discovergeorgetownsc.com/event/georgetown-ducks-unlimited-sportsmans-banquet/
LOCATION:Maritime Park\, 729 Front Street\, Georgetown\, SC\, 29440\, United States
CATEGORIES:Event
ATTACH;FMTTYPE=image/jpeg:https://discovergeorgetownsc.com/wp-content/uploads/2025/10/banq.jpg
END:VEVENT
BEGIN:VEVENT
DTSTART;TZID=America/New_York:20251115T100000
DTEND;TZID=America/New_York:20251115T140000
DTSTAMP:20260421T201022
CREATED:20251027T133030Z
LAST-MODIFIED:20251027T133338Z
UID:10002559-1763200800-1763215200@discovergeorgetownsc.com
SUMMARY:Georgetown Ducks Unlimited Greenwing Youth Event
DESCRIPTION:Bring the kids out for a fun-filled day of outdoor activities\, conservation learning\, and hands-on experiences at the Georgetown Ducks Unlimited Greenwing Youth Event! \nThis event is all about introducing the next generation to the outdoors\, waterfowl\, and wetland conservation in a family-friendly atmosphere. \nWe highly recommend pre-registering online to ensure we have enough swag bags for all participants. \nActivities include: \n\nFace Painting\nBuild A Wood Duck Box\nWaterfowl Ecology & Conservation Lessons\nOutdoor Games & Activities\nLearn about Wetland Habitats like our tidal rice fields and cypress-tupelo swamps\n\nAdmission: $15 per child (includes a year-long Ducks Unlimited Greenwing Membership\, t-shirt\, all activities\, and a kids meal from Down Home Eats) \nParents\, come enjoy a day in the outdoors with your kids while supporting conservation efforts right here in the Lowcountry.
URL:https://discovergeorgetownsc.com/event/georgetown-ducks-unlimited-greenwing-youth-event/
LOCATION:Maritime Park\, 729 Front Street\, Georgetown\, SC\, 29440\, United States
CATEGORIES:Event
ATTACH;FMTTYPE=image/jpeg:https://discovergeorgetownsc.com/wp-content/uploads/2025/10/banner.jpg
END:VEVENT
BEGIN:VEVENT
DTSTART;TZID=America/New_York:20251116T173000
DTEND;TZID=America/New_York:20251116T210000
DTSTAMP:20260421T201022
CREATED:20251103T144726Z
LAST-MODIFIED:20251103T144726Z
UID:10002563-1763314200-1763326800@discovergeorgetownsc.com
SUMMARY:6-Course Brown Foreman Bourbon Dinner
DESCRIPTION:
URL:https://discovergeorgetownsc.com/event/6-course-brown-foreman-bourbon-dinner/
LOCATION:SoCo Grille\, 19 Front St.\, Georgetown\, SC\, 29440\, United States
CATEGORIES:Event
ATTACH;FMTTYPE=image/jpeg:https://discovergeorgetownsc.com/wp-content/uploads/2025/11/bourbon.jpg
END:VEVENT
BEGIN:VEVENT
DTSTART;TZID=America/New_York:20251118T100000
DTEND;TZID=America/New_York:20251118T110000
DTSTAMP:20260421T201022
CREATED:20250821T142311Z
LAST-MODIFIED:20250821T142311Z
UID:10002545-1763460000-1763463600@discovergeorgetownsc.com
SUMMARY:November "Tuesdays With..." Lecture at the Georgetown Library
DESCRIPTION:
URL:https://discovergeorgetownsc.com/event/november-tuesdays-with-lecture-at-the-georgetown-library/
LOCATION:Georgetown County Public Library\, 405 Cleland Street\, Georgetown\, SC\, 29440\, United States
CATEGORIES:Event
ATTACH;FMTTYPE=image/jpeg:https://discovergeorgetownsc.com/wp-content/uploads/2023/03/lecture.jpg
END:VEVENT
BEGIN:VEVENT
DTSTART;TZID=America/New_York:20251125T183000
DTEND;TZID=America/New_York:20251125T193000
DTSTAMP:20260421T201022
CREATED:20251118T151957Z
LAST-MODIFIED:20251118T151957Z
UID:10002565-1764095400-1764099000@discovergeorgetownsc.com
SUMMARY:Light Up The Lawn
DESCRIPTION:Join us as we Light Up the Lawn at the Kaminski House and officially kick off the holiday season! Enjoy the magic of our beautiful holiday lights\, sip on hot chocolate\, and celebrate the start of the most festive time of year with friends\, family\, and community.
URL:https://discovergeorgetownsc.com/event/light-up-the-lawn-2/
LOCATION:Kaminski House Museum\, 1003 Front Street\, Georgetown\, SC\, 29440\, United States
CATEGORIES:Christmas,Event
ATTACH;FMTTYPE=image/jpeg:https://discovergeorgetownsc.com/wp-content/uploads/2023/11/lawn.jpg
END:VEVENT
BEGIN:VEVENT
DTSTART;TZID=America/New_York:20251128T180000
DTEND;TZID=America/New_York:20251128T210000
DTSTAMP:20260421T201022
CREATED:20250911T155258Z
LAST-MODIFIED:20250911T155258Z
UID:10002552-1764352800-1764363600@discovergeorgetownsc.com
SUMMARY:Music In The Park: NTranze
DESCRIPTION:
URL:https://discovergeorgetownsc.com/event/music-in-the-park-ntranze/
LOCATION:Front Street\, 633 Front St.\, Georgetown\, SC\, 29440\, United States
CATEGORIES:Event,Live Music
ATTACH;FMTTYPE=image/jpeg:https://discovergeorgetownsc.com/wp-content/uploads/2022/01/musicpark2.jpg
END:VEVENT
END:VCALENDAR