BEGIN:VCALENDAR
VERSION:2.0
PRODID:-//Georgetown SC - ECPv6.15.20//NONSGML v1.0//EN
CALSCALE:GREGORIAN
METHOD:PUBLISH
X-ORIGINAL-URL:https://discovergeorgetownsc.com
X-WR-CALDESC:Events for Georgetown SC
REFRESH-INTERVAL;VALUE=DURATION:PT1H
X-Robots-Tag:noindex
X-PUBLISHED-TTL:PT1H
BEGIN:VTIMEZONE
TZID:America/New_York
BEGIN:DAYLIGHT
TZOFFSETFROM:-0500
TZOFFSETTO:-0400
TZNAME:EDT
DTSTART:20220313T070000
END:DAYLIGHT
BEGIN:STANDARD
TZOFFSETFROM:-0400
TZOFFSETTO:-0500
TZNAME:EST
DTSTART:20221106T060000
END:STANDARD
BEGIN:DAYLIGHT
TZOFFSETFROM:-0500
TZOFFSETTO:-0400
TZNAME:EDT
DTSTART:20230312T070000
END:DAYLIGHT
BEGIN:STANDARD
TZOFFSETFROM:-0400
TZOFFSETTO:-0500
TZNAME:EST
DTSTART:20231105T060000
END:STANDARD
BEGIN:DAYLIGHT
TZOFFSETFROM:-0500
TZOFFSETTO:-0400
TZNAME:EDT
DTSTART:20240310T070000
END:DAYLIGHT
BEGIN:STANDARD
TZOFFSETFROM:-0400
TZOFFSETTO:-0500
TZNAME:EST
DTSTART:20241103T060000
END:STANDARD
END:VTIMEZONE
BEGIN:VEVENT
DTSTART;TZID=America/New_York:20231209T120000
DTEND;TZID=America/New_York:20231209T210000
DTSTAMP:20260423T175717
CREATED:20230913T133253Z
LAST-MODIFIED:20231024T125118Z
UID:10000086-1702123200-1702155600@discovergeorgetownsc.com
SUMMARY:Ice Skating at Maritime Park
DESCRIPTION:More details coming soon!
URL:https://discovergeorgetownsc.com/event/ice-skating-at-maritime-park/
LOCATION:Maritime Park\, 729 Front Street\, Georgetown\, SC\, 29440\, United States
CATEGORIES:Christmas,Event
ATTACH;FMTTYPE=image/jpeg:https://discovergeorgetownsc.com/wp-content/uploads/2023/09/iceskating.jpg
END:VEVENT
BEGIN:VEVENT
DTSTART;TZID=America/New_York:20230617T130000
DTEND;TZID=America/New_York:20230617T170000
DTSTAMP:20260423T175717
CREATED:20230607T204615Z
LAST-MODIFIED:20230607T204615Z
UID:10000065-1687006800-1687021200@discovergeorgetownsc.com
SUMMARY:Flag Day Concert
DESCRIPTION:
URL:https://discovergeorgetownsc.com/event/flag-day-concert/
LOCATION:Maritime Park\, 729 Front Street\, Georgetown\, SC\, 29440\, United States
CATEGORIES:Event,Live Music
ATTACH;FMTTYPE=image/jpeg:https://discovergeorgetownsc.com/wp-content/uploads/2023/06/flagday.jpg
END:VEVENT
END:VCALENDAR