BEGIN:VCALENDAR
VERSION:2.0
PRODID:-//Georgetown SC - ECPv6.15.20//NONSGML v1.0//EN
CALSCALE:GREGORIAN
METHOD:PUBLISH
X-WR-CALNAME:Georgetown SC
X-ORIGINAL-URL:https://discovergeorgetownsc.com
X-WR-CALDESC:Events for Georgetown SC
REFRESH-INTERVAL;VALUE=DURATION:PT1H
X-Robots-Tag:noindex
X-PUBLISHED-TTL:PT1H
BEGIN:VTIMEZONE
TZID:America/New_York
BEGIN:DAYLIGHT
TZOFFSETFROM:-0500
TZOFFSETTO:-0400
TZNAME:EDT
DTSTART:20220313T070000
END:DAYLIGHT
BEGIN:STANDARD
TZOFFSETFROM:-0400
TZOFFSETTO:-0500
TZNAME:EST
DTSTART:20221106T060000
END:STANDARD
BEGIN:DAYLIGHT
TZOFFSETFROM:-0500
TZOFFSETTO:-0400
TZNAME:EDT
DTSTART:20230312T070000
END:DAYLIGHT
BEGIN:STANDARD
TZOFFSETFROM:-0400
TZOFFSETTO:-0500
TZNAME:EST
DTSTART:20231105T060000
END:STANDARD
BEGIN:DAYLIGHT
TZOFFSETFROM:-0500
TZOFFSETTO:-0400
TZNAME:EDT
DTSTART:20240310T070000
END:DAYLIGHT
BEGIN:STANDARD
TZOFFSETFROM:-0400
TZOFFSETTO:-0500
TZNAME:EST
DTSTART:20241103T060000
END:STANDARD
BEGIN:DAYLIGHT
TZOFFSETFROM:-0500
TZOFFSETTO:-0400
TZNAME:EDT
DTSTART:20250309T070000
END:DAYLIGHT
BEGIN:STANDARD
TZOFFSETFROM:-0400
TZOFFSETTO:-0500
TZNAME:EST
DTSTART:20251102T060000
END:STANDARD
BEGIN:DAYLIGHT
TZOFFSETFROM:-0500
TZOFFSETTO:-0400
TZNAME:EDT
DTSTART:20260308T070000
END:DAYLIGHT
BEGIN:STANDARD
TZOFFSETFROM:-0400
TZOFFSETTO:-0500
TZNAME:EST
DTSTART:20261101T060000
END:STANDARD
BEGIN:DAYLIGHT
TZOFFSETFROM:-0500
TZOFFSETTO:-0400
TZNAME:EDT
DTSTART:20270314T070000
END:DAYLIGHT
BEGIN:STANDARD
TZOFFSETFROM:-0400
TZOFFSETTO:-0500
TZNAME:EST
DTSTART:20271107T060000
END:STANDARD
END:VTIMEZONE
BEGIN:VEVENT
DTSTART;TZID=America/New_York:20260221T183000
DTEND;TZID=America/New_York:20260221T203000
DTSTAMP:20260424T012443
CREATED:20260113T113718Z
LAST-MODIFIED:20260113T113718Z
UID:10002575-1771698600-1771705800@discovergeorgetownsc.com
SUMMARY:Georgetown Tidal Tales: Taking Chances
DESCRIPTION:
URL:https://discovergeorgetownsc.com/event/georgetown-tidal-tales-taking-chances/
LOCATION:Winyah Auditorium\, 1200 Highmarket St\, Georgetown\, SC\, 29440\, United States
CATEGORIES:Event
ATTACH;FMTTYPE=image/jpeg:https://discovergeorgetownsc.com/wp-content/uploads/2023/03/lecture.jpg
END:VEVENT
BEGIN:VEVENT
DTSTART;TZID=America/New_York:20250505T190000
DTEND;TZID=America/New_York:20250505T220000
DTSTAMP:20260424T012443
CREATED:20250317T131756Z
LAST-MODIFIED:20250317T131756Z
UID:10002501-1746471600-1746482400@discovergeorgetownsc.com
SUMMARY:A Spring Fling at Winyah Auditorium
DESCRIPTION:Winyah Bay Musical Arts Chorale will join the Chamber Music Charleston for a most enjoyable evening! \nA string quartet and harpsichord will perform classical pieces. WBMA Chorale will be accompanied by Chamber Music Charleston and Olivia Huggins on piano for vocal selections: Bridge Over Troubled Water\, Hallelujah by Cohen\, For the Beauty of the Earth arrg. Rutter\, Somewhere Over the Rainbow\, What a Wonderful World. \nSingers are from Georgetown\, Andrews\, Pawleys Island\, Murrells Inlet\, Hemingway\, Rhem’s/Mingo. \nTickets $25.00 on Zeffy through winyahbaymusic.com or at the door.
URL:https://discovergeorgetownsc.com/event/a-spring-fling-at-winyah-auditorium/
LOCATION:Winyah Auditorium\, 1200 Highmarket St\, Georgetown\, SC\, 29440\, United States
CATEGORIES:Event,Live Music
ATTACH;FMTTYPE=image/jpeg:https://discovergeorgetownsc.com/wp-content/uploads/2025/03/cmc.jpg
END:VEVENT
BEGIN:VEVENT
DTSTART;TZID=America/New_York:20231216T160000
DTEND;TZID=America/New_York:20231216T190000
DTSTAMP:20260424T012443
CREATED:20231213T134900Z
LAST-MODIFIED:20231213T134900Z
UID:10000974-1702742400-1702753200@discovergeorgetownsc.com
SUMMARY:The Parris Island Marine Band
DESCRIPTION:
URL:https://discovergeorgetownsc.com/event/the-parris-island-marine-band/
LOCATION:Winyah Auditorium\, 1200 Highmarket St\, Georgetown\, SC\, 29440\, United States
CATEGORIES:Event,Live Music
ATTACH;FMTTYPE=image/jpeg:https://discovergeorgetownsc.com/wp-content/uploads/2023/12/marine.jpg
END:VEVENT
BEGIN:VEVENT
DTSTART;TZID=America/New_York:20230919T100000
DTEND;TZID=America/New_York:20230919T120000
DTSTAMP:20260424T012443
CREATED:20230912T165233Z
LAST-MODIFIED:20230912T165233Z
UID:10000082-1695117600-1695124800@discovergeorgetownsc.com
SUMMARY:September Lecture of the Friends of the Georgetown Library
DESCRIPTION:The Friends of the Georgetown Library are pleased to announce the start of our seventh year of Tuesdays With…\, a monthly lecture series featuring outstanding speakers and topics of special interest to local listeners. \nTuesdays With… will convene for the first time this fall on September 19th\, at 10 am\, in the Winyah Auditorium at 1200 Highmarket Street (one block south of the Georgetown Library). We start this year’s series with a presentation by Victoria Smalls\, Executive Director of the Gullah Geechee Cultural Heritage Corridor\, on “Welcome to the Gullah Geechee Cultural Heritage Corridor.” The Gullah Geechee Cultural Heritage Corridor is a National Heritage Area established by the United States Congress to recognize the unique culture of the Gullah Geechee people who have traditionally resided in the coastal areas and the sea islands of North Carolina\, South Carolina\, Georgia and Florida\, including Georgetown. \nPlease reserve the date on your calendar and plan to join us to learn more about Gullah Geechee people and a unique\, world culture.
URL:https://discovergeorgetownsc.com/event/september-lecture-of-the-friends-of-the-georgetown-library/
LOCATION:Winyah Auditorium\, 1200 Highmarket St\, Georgetown\, SC\, 29440\, United States
CATEGORIES:Event
ATTACH;FMTTYPE=image/png:https://discovergeorgetownsc.com/wp-content/uploads/2023/09/Untitled-design-12.png
END:VEVENT
BEGIN:VEVENT
DTSTART;TZID=America/New_York:20230826T180000
DTEND;TZID=America/New_York:20230826T210000
DTSTAMP:20260424T012443
CREATED:20230811T171517Z
LAST-MODIFIED:20230811T171517Z
UID:10000071-1693072800-1693083600@discovergeorgetownsc.com
SUMMARY:Aunt Pearlie Sue & The Gullah Kinfolk Traveling Theater
DESCRIPTION:A celebration of Gullah Geechee Heritage in Word and Song featuring Aunt Pearlie Sue & the Gullah Kinfolk Traveling Theater! \nTicket sales: $30 adults (19 and above); $50 for two tickets; $15 ages 12 – 18; FREE 11 and under; \nPurchase tickets at https://www.eventbrite.com/e/671633994357?aff=oddtdtcreator \nGroup packages available for 10 seats minimum; Contact Info@BringHarrietHome.org
URL:https://discovergeorgetownsc.com/event/aunt-pearlie-sue-the-gullah-kinfolk-traveling-theater/
LOCATION:Winyah Auditorium\, 1200 Highmarket St\, Georgetown\, SC\, 29440\, United States
CATEGORIES:Event
ATTACH;FMTTYPE=image/jpeg:https://discovergeorgetownsc.com/wp-content/uploads/2023/08/gullah.jpg
END:VEVENT
BEGIN:VEVENT
DTSTART;TZID=America/New_York:20230224T190000
DTEND;TZID=America/New_York:20230224T220000
DTSTAMP:20260424T012443
CREATED:20230206T180031Z
LAST-MODIFIED:20230206T180031Z
UID:10000020-1677265200-1677276000@discovergeorgetownsc.com
SUMMARY:Into The Fog at Winyah Auditorium
DESCRIPTION:Into The Fog brings the funky bluegrass jams to the beautiful Winyah Auditorium! Sure to be night to remember! \nMusic & merch : http://www.intothefogmusic.com\nFacebook: https://www.facebook.com/Intothefogmusic\nInstagram: https://www.instagram.com/intothefogmusic/\nYoutube: https://www.youtube.com/intothefogmusic \nAbout the band:\nWinners of the 2021 MerleFest Band Competition\, Into The Fog is a genre-jumping string band based out of Raleigh\, North Carolina. With its members having various backgrounds ranging from bluegrass\, country\, rock\, to funk\, Into The Fog creates a musical melting pot of sounds in an acoustic/newgrass setting. The band is made up of Brian Stephenson(Acoustic guitar\, Vocals)\, Winston Mitchell(Mandolin\, Vocals)\, Derek Lane(Bass\, Vocals) and Connor Kozlosky (Electric guitar\, Vocals). \nOriginally formed in Wilmington\, NC\, Into The Fog immediately hit the ground running as a band by heading across the country to compete at the 2018 Telluride Bluegrass Festival Band Competition only a few months after coming together. That cross country trip was recorded by friend of the band and videographer Mason Godwin in his documentary Band #7:The Ride to Telluride. \nAfter the Telluride trip\, the band got to work playing as much as they could around North Carolina. Becoming a mainstay at over 30 different breweries around the state Into The Fog started to quickly make a name for themselves. Then in November of 2018 the band went to a cabin outside of Waynesville\, NC and spent a week recording their debut album Wishin’ It Would Rain\, which was released on February 22\, 2019.\n“The trio crafts a dynamic mix of songs and sounds\, from the gypsy feel of “Caawphonation” to the running-from-Johnny-Law feel of instrumental “Cedar Island Rendezvous.”- Brian Tucker(Star News) \nWith their debut album under their belt Into The Fog started to pick up momentum exchanging brewery gigs for music venues and festivals with opportunities like playing Shakori Hills\, Rooster Walk\, FloydFest\, MerleFest\, NC Homegrown Music Festival\, IBMA\, and Front Porch Fest along with opening slots for national touring acts Sam Bush\, Ghost of Paul Revere\, Jon Stickley Trio\, Keller & The Keels and Town Mountain. Into The Fog solidified their sound further with their 14 track sophomore album Runnin’ Blind and Chasin’ Time which was released in May of 2021.\n“While purists might label label their sound as Newgrass\, those in attendance respond to the gospel they are preaching and seem perfectly content with the foggy genre\, since the sound is so clear”- Donna Davis(The Daily Reflector)
URL:https://discovergeorgetownsc.com/event/into-the-fog-at-winyah-auditorium/
LOCATION:Winyah Auditorium\, 1200 Highmarket St\, Georgetown\, SC\, 29440\, United States
CATEGORIES:Live Music
ATTACH;FMTTYPE=image/jpeg:https://discovergeorgetownsc.com/wp-content/uploads/2023/02/intofog.jpg
END:VEVENT
END:VCALENDAR